BEGIN:VCALENDAR
VERSION:2.0
PRODID:-//Silver Tail Farm - ECPv6.15.20//NONSGML v1.0//EN
CALSCALE:GREGORIAN
METHOD:PUBLISH
X-WR-CALNAME:Silver Tail Farm
X-ORIGINAL-URL:https://silvertailfarm.com
X-WR-CALDESC:Events for Silver Tail Farm
REFRESH-INTERVAL;VALUE=DURATION:PT1H
X-Robots-Tag:noindex
X-PUBLISHED-TTL:PT1H
BEGIN:VTIMEZONE
TZID:America/Los_Angeles
BEGIN:DAYLIGHT
TZOFFSETFROM:-0800
TZOFFSETTO:-0700
TZNAME:PDT
DTSTART:20230312T100000
END:DAYLIGHT
BEGIN:STANDARD
TZOFFSETFROM:-0700
TZOFFSETTO:-0800
TZNAME:PST
DTSTART:20231105T090000
END:STANDARD
BEGIN:DAYLIGHT
TZOFFSETFROM:-0800
TZOFFSETTO:-0700
TZNAME:PDT
DTSTART:20240310T100000
END:DAYLIGHT
BEGIN:STANDARD
TZOFFSETFROM:-0700
TZOFFSETTO:-0800
TZNAME:PST
DTSTART:20241103T090000
END:STANDARD
BEGIN:DAYLIGHT
TZOFFSETFROM:-0800
TZOFFSETTO:-0700
TZNAME:PDT
DTSTART:20250309T100000
END:DAYLIGHT
BEGIN:STANDARD
TZOFFSETFROM:-0700
TZOFFSETTO:-0800
TZNAME:PST
DTSTART:20251102T090000
END:STANDARD
END:VTIMEZONE
BEGIN:VEVENT
DTSTART;TZID=America/Los_Angeles:20240508T080000
DTEND;TZID=America/Los_Angeles:20240512T170000
DTSTAMP:20260425T042525
CREATED:20240219T202941Z
LAST-MODIFIED:20240219T203011Z
UID:2818-1715155200-1715533200@silvertailfarm.com
SUMMARY:Mozart CVI and USEF Vaulting Qualifier for World Cup
DESCRIPTION:Manager/Secretary:  Patty Littman
URL:https://silvertailfarm.com/event/mozart-cvi-and-usef-vaulting-qualifier-for-world-cup-2024/
LOCATION:Silver Tail Farm\, 33331 Howe Lane\, Creswell\, OR\, 97426\, United States
CATEGORIES:Competitions
END:VEVENT
BEGIN:VEVENT
DTSTART;VALUE=DATE:20240518
DTEND;VALUE=DATE:20240520
DTSTAMP:20260425T042525
CREATED:20240219T203206Z
LAST-MODIFIED:20240311T180829Z
UID:2820-1715990400-1716163199@silvertailfarm.com
SUMMARY:Silver Tail Farm Schooling Show
DESCRIPTION:ODS League approved \nJudge: Kathy Casey “r”\nSecretary: Peter Rothschild – Day of Secretary – Emily Park\n206-200-3522\npgr@tsandm.com \nManager: Laura Park\n541-510-9865\nlaura@silvertailfarm.com \nOpening Date: April 19\, 2024 Entries postmarked before opening date will be penalized. \nClosing Date: May 12\, 2024 Entries postmarked after closing date accepted if space available. \n$10.00 per class post entry fee will apply. Entries may be scanned and emailed to the secretary’s email. \nOnline Entries Preferred using the\nFox Village Online Entry System – Foxvillage.com\nThis is an Oregon Dressage League point earning show\nbut NOT a USEF/USDF recognized competition.\nFull Prize List (PDF format)
URL:https://silvertailfarm.com/event/silver-tail-farm-schooling-show-may-2024/
LOCATION:Silver Tail Farm\, 33331 Howe Lane\, Creswell\, OR\, 97426\, United States
CATEGORIES:Competitions,Schooling Show
END:VEVENT
END:VCALENDAR