BEGIN:VCALENDAR
VERSION:2.0
PRODID:-//Silver Tail Farm - ECPv6.15.20//NONSGML v1.0//EN
CALSCALE:GREGORIAN
METHOD:PUBLISH
X-WR-CALNAME:Silver Tail Farm
X-ORIGINAL-URL:https://silvertailfarm.com
X-WR-CALDESC:Events for Silver Tail Farm
REFRESH-INTERVAL;VALUE=DURATION:PT1H
X-Robots-Tag:noindex
X-PUBLISHED-TTL:PT1H
BEGIN:VTIMEZONE
TZID:America/Los_Angeles
BEGIN:DAYLIGHT
TZOFFSETFROM:-0800
TZOFFSETTO:-0700
TZNAME:PDT
DTSTART:20230312T100000
END:DAYLIGHT
BEGIN:STANDARD
TZOFFSETFROM:-0700
TZOFFSETTO:-0800
TZNAME:PST
DTSTART:20231105T090000
END:STANDARD
BEGIN:DAYLIGHT
TZOFFSETFROM:-0800
TZOFFSETTO:-0700
TZNAME:PDT
DTSTART:20240310T100000
END:DAYLIGHT
BEGIN:STANDARD
TZOFFSETFROM:-0700
TZOFFSETTO:-0800
TZNAME:PST
DTSTART:20241103T090000
END:STANDARD
BEGIN:DAYLIGHT
TZOFFSETFROM:-0800
TZOFFSETTO:-0700
TZNAME:PDT
DTSTART:20250309T100000
END:DAYLIGHT
BEGIN:STANDARD
TZOFFSETFROM:-0700
TZOFFSETTO:-0800
TZNAME:PST
DTSTART:20251102T090000
END:STANDARD
END:VTIMEZONE
BEGIN:VEVENT
DTSTART;VALUE=DATE:20240713
DTEND;VALUE=DATE:20240715
DTSTAMP:20260425T045016
CREATED:20240219T204329Z
LAST-MODIFIED:20240316T001313Z
UID:2825-1720828800-1721001599@silvertailfarm.com
SUMMARY:Silver Tail Farm Schooling Show
DESCRIPTION:ODS League approved \nJudge: Sabine Ense “r”\nSecretary: Peter Rothschild\n206-200-3522\npgr@tsandm.com \nManager: Laura Park\n541-510-9865\nlaura@silvertailfarm.com \nOpening Date: June 7\, 2024\nEntries postmarked before opening date will be penalized. \nClosing Date: July 5\, 2024\nEntries postmarked after closing date accepted if space available. $10.00 per class post entry fee will apply.\nEntries may be scanned and emailed to the secretary’s email. \nShow Office Hours: One (1) hour prior to the first ride each day and will close one-half (1/2) hour after the last\nclass of the day. \nOnline Entries Preferred using the Fox Village Online Entry System – Foxvillage.com\nThis is an Oregon Dressage League point earning show\nbut NOT a USEF/USDF recognized competition. \nFull Prize List (PDF)
URL:https://silvertailfarm.com/event/silver-tail-farm-schooling-show-july-2024/
LOCATION:Silver Tail Farm\, 33331 Howe Lane\, Creswell\, OR\, 97426\, United States
CATEGORIES:Competitions,Schooling Show
END:VEVENT
END:VCALENDAR