BEGIN:VCALENDAR
VERSION:2.0
PRODID:-//Silver Tail Farm - ECPv6.15.20//NONSGML v1.0//EN
CALSCALE:GREGORIAN
METHOD:PUBLISH
X-ORIGINAL-URL:https://silvertailfarm.com
X-WR-CALDESC:Events for Silver Tail Farm
REFRESH-INTERVAL;VALUE=DURATION:PT1H
X-Robots-Tag:noindex
X-PUBLISHED-TTL:PT1H
BEGIN:VTIMEZONE
TZID:America/Los_Angeles
BEGIN:DAYLIGHT
TZOFFSETFROM:-0800
TZOFFSETTO:-0700
TZNAME:PDT
DTSTART:20160313T100000
END:DAYLIGHT
BEGIN:STANDARD
TZOFFSETFROM:-0700
TZOFFSETTO:-0800
TZNAME:PST
DTSTART:20161106T090000
END:STANDARD
BEGIN:DAYLIGHT
TZOFFSETFROM:-0800
TZOFFSETTO:-0700
TZNAME:PDT
DTSTART:20170312T100000
END:DAYLIGHT
BEGIN:STANDARD
TZOFFSETFROM:-0700
TZOFFSETTO:-0800
TZNAME:PST
DTSTART:20171105T090000
END:STANDARD
BEGIN:DAYLIGHT
TZOFFSETFROM:-0800
TZOFFSETTO:-0700
TZNAME:PDT
DTSTART:20180311T100000
END:DAYLIGHT
BEGIN:STANDARD
TZOFFSETFROM:-0700
TZOFFSETTO:-0800
TZNAME:PST
DTSTART:20181104T090000
END:STANDARD
BEGIN:DAYLIGHT
TZOFFSETFROM:-0800
TZOFFSETTO:-0700
TZNAME:PDT
DTSTART:20190310T100000
END:DAYLIGHT
BEGIN:STANDARD
TZOFFSETFROM:-0700
TZOFFSETTO:-0800
TZNAME:PST
DTSTART:20191103T090000
END:STANDARD
BEGIN:DAYLIGHT
TZOFFSETFROM:-0800
TZOFFSETTO:-0700
TZNAME:PDT
DTSTART:20200308T100000
END:DAYLIGHT
BEGIN:STANDARD
TZOFFSETFROM:-0700
TZOFFSETTO:-0800
TZNAME:PST
DTSTART:20201101T090000
END:STANDARD
BEGIN:DAYLIGHT
TZOFFSETFROM:-0800
TZOFFSETTO:-0700
TZNAME:PDT
DTSTART:20210314T100000
END:DAYLIGHT
BEGIN:STANDARD
TZOFFSETFROM:-0700
TZOFFSETTO:-0800
TZNAME:PST
DTSTART:20211107T090000
END:STANDARD
BEGIN:DAYLIGHT
TZOFFSETFROM:-0800
TZOFFSETTO:-0700
TZNAME:PDT
DTSTART:20220313T100000
END:DAYLIGHT
BEGIN:STANDARD
TZOFFSETFROM:-0700
TZOFFSETTO:-0800
TZNAME:PST
DTSTART:20221106T090000
END:STANDARD
BEGIN:DAYLIGHT
TZOFFSETFROM:-0800
TZOFFSETTO:-0700
TZNAME:PDT
DTSTART:20230312T100000
END:DAYLIGHT
BEGIN:STANDARD
TZOFFSETFROM:-0700
TZOFFSETTO:-0800
TZNAME:PST
DTSTART:20231105T090000
END:STANDARD
BEGIN:DAYLIGHT
TZOFFSETFROM:-0800
TZOFFSETTO:-0700
TZNAME:PDT
DTSTART:20240310T100000
END:DAYLIGHT
BEGIN:STANDARD
TZOFFSETFROM:-0700
TZOFFSETTO:-0800
TZNAME:PST
DTSTART:20241103T090000
END:STANDARD
BEGIN:DAYLIGHT
TZOFFSETFROM:-0800
TZOFFSETTO:-0700
TZNAME:PDT
DTSTART:20250309T100000
END:DAYLIGHT
BEGIN:STANDARD
TZOFFSETFROM:-0700
TZOFFSETTO:-0800
TZNAME:PST
DTSTART:20251102T090000
END:STANDARD
BEGIN:DAYLIGHT
TZOFFSETFROM:-0800
TZOFFSETTO:-0700
TZNAME:PDT
DTSTART:20260308T100000
END:DAYLIGHT
BEGIN:STANDARD
TZOFFSETFROM:-0700
TZOFFSETTO:-0800
TZNAME:PST
DTSTART:20261101T090000
END:STANDARD
BEGIN:DAYLIGHT
TZOFFSETFROM:-0800
TZOFFSETTO:-0700
TZNAME:PDT
DTSTART:20270314T100000
END:DAYLIGHT
BEGIN:STANDARD
TZOFFSETFROM:-0700
TZOFFSETTO:-0800
TZNAME:PST
DTSTART:20271107T090000
END:STANDARD
END:VTIMEZONE
BEGIN:VEVENT
DTSTART;VALUE=DATE:20260307
DTEND;VALUE=DATE:20260309
DTSTAMP:20260423T110642
CREATED:20250122T192922Z
LAST-MODIFIED:20260302T165520Z
UID:2977-1772841600-1773014399@silvertailfarm.com
SUMMARY:Twin Rivers St Patrick’s League Show - CANCELLED
DESCRIPTION:[vc_row][vc_column][vc_column_text css=””]This event has been cancelled. \nJudge: Jessie Rattner “L” \nSecretary: Emily Park\nodstwinriversevents@gmail.com \nManager: Laura Park\n541-510-9865\nlaura@silvertailfarm.com \n  \n\n\n[/vc_column_text][/vc_column][/vc_row]
URL:https://silvertailfarm.com/event/twin-rivers-st-patricks-league-show-mar-2026/
LOCATION:Silver Tail Farm\, 33331 Howe Lane\, Creswell\, OR\, 97426\, United States
CATEGORIES:Competitions,Schooling Show
ATTACH;FMTTYPE=image/png:https://silvertailfarm.com/wp-content/uploads/2021/05/Twin_Rivers_logo_-V3_cropped.png
ORGANIZER;CN="Twin Rivers Chapter of Oregon Dressage Society":MAILTO:odstwinriversevents@gmail.com
END:VEVENT
BEGIN:VEVENT
DTSTART;VALUE=DATE:20250412
DTEND;VALUE=DATE:20250413
DTSTAMP:20260423T110642
CREATED:20250122T193315Z
LAST-MODIFIED:20250209T194715Z
UID:2979-1744416000-1744502399@silvertailfarm.com
SUMMARY:Silver Tail Farm Spring League Show
DESCRIPTION:ODS Approved League Show\nPNWWWDA Approved B Show\nJudge:  Deborah Spence “R” (Dressage & Western Dressage)\n\n13 Western Dressage & 14 Dressage classes! Ride Tests of Choice at levels Intro through Third level and above in either or both disciplines. Also musical freestyle & assisted rider classes. \nDressage is approved ODS League Show. \nWestern Dressage is approved for points with Pacific Northwest Western Dressage Association. \nAll classes approved for MHAO highpoint. \nSecretary: Emily Park\n541-844-4406\nodstwinriversevents@gmail.com \nManager: Laura Park\n541-510-9865\nlaura@silvertailfarm.com \nOpening Date: March 17\, 2025\nEntries postmarked before opening date will be penalized. \nClosing Date: April 9\, 2025\nEntries postmarked after closing date accepted if space available. $10.00 per class post entry fee will apply. Entries may be scanned and emailed to the secretary’s email. \nFull Prize List (click here to download PDF)
URL:https://silvertailfarm.com/event/silver-tail-farm-spring-league-show/
LOCATION:Silver Tail Farm\, 33331 Howe Lane\, Creswell\, OR\, 97426\, United States
CATEGORIES:Competitions,Schooling Show
END:VEVENT
BEGIN:VEVENT
DTSTART;VALUE=DATE:20240928
DTEND;VALUE=DATE:20240930
DTSTAMP:20260423T110642
CREATED:20240219T204517Z
LAST-MODIFIED:20240812T235914Z
UID:2827-1727481600-1727654399@silvertailfarm.com
SUMMARY:Silver Tail Farm Schooling Show - Cancelled
DESCRIPTION:Event Cancelled due to a schedule conflict.\nODS League approved \nJudge: Sally Sovey “r”\nSecretary: Peter Rothschild\n206-200-3522\npgr@tsandm.com \nManager: Laura Park\n541-510-9865\nlaura@silvertailfarm.com \nOpening Date: August 23\, 2024\nEntries postmarked before opening date will be penalized. \nClosing Date: September 20\, 2024\nEntries postmarked after closing date accepted if space available. $10.00 per class post entry fee will apply.\nEntries may be scanned and emailed to the secretary’s email. \nShow Office Hours: One (1) hour prior to the first ride each day and will close one-half (1/2) hour after the last\nclass of the day. \nOnline Entries Preferred using the Fox Village Online Entry System – Foxvillage.com\nThis is an Oregon Dressage League point earning show\nbut NOT a USEF/USDF recognized competition. \n 
URL:https://silvertailfarm.com/event/silver-tail-farm-schooling-show-sept-2024/
LOCATION:Silver Tail Farm\, 33331 Howe Lane\, Creswell\, OR\, 97426\, United States
CATEGORIES:Competitions,Schooling Show
END:VEVENT
BEGIN:VEVENT
DTSTART;VALUE=DATE:20240713
DTEND;VALUE=DATE:20240715
DTSTAMP:20260423T110642
CREATED:20240219T204329Z
LAST-MODIFIED:20240316T001313Z
UID:2825-1720828800-1721001599@silvertailfarm.com
SUMMARY:Silver Tail Farm Schooling Show
DESCRIPTION:ODS League approved \nJudge: Sabine Ense “r”\nSecretary: Peter Rothschild\n206-200-3522\npgr@tsandm.com \nManager: Laura Park\n541-510-9865\nlaura@silvertailfarm.com \nOpening Date: June 7\, 2024\nEntries postmarked before opening date will be penalized. \nClosing Date: July 5\, 2024\nEntries postmarked after closing date accepted if space available. $10.00 per class post entry fee will apply.\nEntries may be scanned and emailed to the secretary’s email. \nShow Office Hours: One (1) hour prior to the first ride each day and will close one-half (1/2) hour after the last\nclass of the day. \nOnline Entries Preferred using the Fox Village Online Entry System – Foxvillage.com\nThis is an Oregon Dressage League point earning show\nbut NOT a USEF/USDF recognized competition. \nFull Prize List (PDF)
URL:https://silvertailfarm.com/event/silver-tail-farm-schooling-show-july-2024/
LOCATION:Silver Tail Farm\, 33331 Howe Lane\, Creswell\, OR\, 97426\, United States
CATEGORIES:Competitions,Schooling Show
END:VEVENT
BEGIN:VEVENT
DTSTART;VALUE=DATE:20240518
DTEND;VALUE=DATE:20240520
DTSTAMP:20260423T110642
CREATED:20240219T203206Z
LAST-MODIFIED:20240311T180829Z
UID:2820-1715990400-1716163199@silvertailfarm.com
SUMMARY:Silver Tail Farm Schooling Show
DESCRIPTION:ODS League approved \nJudge: Kathy Casey “r”\nSecretary: Peter Rothschild – Day of Secretary – Emily Park\n206-200-3522\npgr@tsandm.com \nManager: Laura Park\n541-510-9865\nlaura@silvertailfarm.com \nOpening Date: April 19\, 2024 Entries postmarked before opening date will be penalized. \nClosing Date: May 12\, 2024 Entries postmarked after closing date accepted if space available. \n$10.00 per class post entry fee will apply. Entries may be scanned and emailed to the secretary’s email. \nOnline Entries Preferred using the\nFox Village Online Entry System – Foxvillage.com\nThis is an Oregon Dressage League point earning show\nbut NOT a USEF/USDF recognized competition.\nFull Prize List (PDF format)
URL:https://silvertailfarm.com/event/silver-tail-farm-schooling-show-may-2024/
LOCATION:Silver Tail Farm\, 33331 Howe Lane\, Creswell\, OR\, 97426\, United States
CATEGORIES:Competitions,Schooling Show
END:VEVENT
BEGIN:VEVENT
DTSTART;VALUE=DATE:20240323
DTEND;VALUE=DATE:20240324
DTSTAMP:20260423T110642
CREATED:20240219T202709Z
LAST-MODIFIED:20240219T202709Z
UID:2815-1711152000-1711238399@silvertailfarm.com
SUMMARY:Twin Rivers St Patrick’s League Show
DESCRIPTION:Judge: Megan Pugh \nSecretary: Emily Park \nodstwinriversevents@gmail.com or\n(541) 844-4406\nPO BOX 1006 Creswell\, OR 97426 \nManager: Twin Rivers Chapter of ODS \n 
URL:https://silvertailfarm.com/event/twin-rivers-st-patricks-league-show-mar-2024/
LOCATION:Silver Tail Farm\, 33331 Howe Lane\, Creswell\, OR\, 97426\, United States
CATEGORIES:Competitions,Schooling Show
ATTACH;FMTTYPE=image/png:https://silvertailfarm.com/wp-content/uploads/2021/05/Twin_Rivers_logo_-V3_cropped.png
ORGANIZER;CN="Twin Rivers Chapter of Oregon Dressage Society":MAILTO:odstwinriversevents@gmail.com
END:VEVENT
BEGIN:VEVENT
DTSTART;VALUE=DATE:20230318
DTEND;VALUE=DATE:20230319
DTSTAMP:20260423T110642
CREATED:20221228T220457Z
LAST-MODIFIED:20230208T165016Z
UID:2472-1679097600-1679183999@silvertailfarm.com
SUMMARY:Twin Rivers St Patrick’s Schooling Show
DESCRIPTION:Judge: Kathy Casey \nSecretary: Emily Park/Geri Zickert \nodstwinriversevents@gmail.com or\n(541) 844-4406\nPO BOX 1006 Creswell\, OR 97426 \nManager: Twin Rivers Chapter of ODS \nOpening Date: February 15th\, 2023\nEntries postmarked before opening date will be penalized. \nClosing Date: March 10th\, 2023\nEntries postmarked after closing date accepted if space available. $10.00 per class post entry fee will apply. Entries may be scanned and emailed to the secretary’s email. \nThis is not a point earning or recognized competition\, for practice only. \nLINK TO THE FULL PRIZE LIST\nClass List:\n100…………Introductory Level\, Test A\n101…………Introductory Level\, Test B\n102…………Introductory Level\, Test C\n103…………Training Level\, Test 1\n104…………Training Level\, Test 2\n105…………Training Level\, Test 3\n106…………First Level\, Test 1\n107…………First Level\, Test 2\n108…………First Level\, Test 3\n109…………Second Level\, Test 1\n110…………Second Level\, Test 2\n111…………Second Level\, Test 3\n112…………Third Level & Above\, *Specify Test*\n113…………Dressage Suitability\n114…………Western Dressage Association of America TOC *Specify level and test*\n115…………USEF Test of Choice\, *Specify Test*\n116…………USEF Freestyle\, *Specify Level *\nWestern dressage classes are offered according to the rules defined by the Western Dressage Association and approved by USEF. For further details see www.westerndressageassociation.org. Note: ODS helmet rule still applies to these tests. \n*Music must be provided on CD or MP3/iPhone. Sound checks will be scheduled. Rider to provide clear written instructions for starting/stopping music. \nEntries:\nUse ODS Schooling show entry form: https://oregondressage.com/…/2019-schooling-entry… \nMail entries to: Emily Park\nPO Box 1006\nCreswell\, OR 97426 \nFEES AND REFUNDS: Make checks payable to TRC-ODS \nClass Fees:\nTests…………………………………………………………….…………….…….$40.00\nDressage Suitability…………………………………….……………..…….$30.00\nPost Entry if space is available in addition to class fee………$10.00 \nNon-Refundable Fees:\nOffice fee\, required for every entry……………………..…………..$15.00\nCancellation fee…………………………………………………………..…..$45.00\nReturned Check fee………………………………….……………….……..$45.00 \nFacility Fees:\nHorse stall overnight………………………..………………………………$50.00\nHorse stall day……………………………….…………………….……….….$30.00\nHaul in fee for horses not stabled on grounds ….….…..……..$20.00
URL:https://silvertailfarm.com/event/twin-rivers-st-patricks-schooling-show-mar-23/
LOCATION:Silver Tail Farm\, 33331 Howe Lane\, Creswell\, OR\, 97426\, United States
CATEGORIES:Competitions,Schooling Show
ATTACH;FMTTYPE=image/png:https://silvertailfarm.com/wp-content/uploads/2021/05/Twin_Rivers_logo_-V3_cropped.png
ORGANIZER;CN="Twin Rivers Chapter of Oregon Dressage Society":MAILTO:odstwinriversevents@gmail.com
END:VEVENT
BEGIN:VEVENT
DTSTART;VALUE=DATE:20200426
DTEND;VALUE=DATE:20200427
DTSTAMP:20260423T110642
CREATED:20200128T190034Z
LAST-MODIFIED:20200128T190817Z
UID:1818-1587859200-1587945599@silvertailfarm.com
SUMMARY:Twin Rivers Spring Fling Schooling Show
DESCRIPTION:All info TBD.
URL:https://silvertailfarm.com/event/twin-rivers-spring-fling-schooling-show/
LOCATION:Silver Tail Farm\, 33331 Howe Lane\, Creswell\, OR\, 97426\, United States
CATEGORIES:Schooling Show
ORGANIZER;CN="Twin Rivers Chapter of Oregon Dressage Society":MAILTO:odstwinriversevents@gmail.com
END:VEVENT
BEGIN:VEVENT
DTSTART;VALUE=DATE:20200315
DTEND;VALUE=DATE:20200316
DTSTAMP:20260423T110642
CREATED:20200128T180524Z
LAST-MODIFIED:20200128T180926Z
UID:1806-1584230400-1584316799@silvertailfarm.com
SUMMARY:Twin Rivers St Patrick's Day Schooling Show
DESCRIPTION:Judge: Megan Pugh \nSecretary: Tami Davis\n25154 Lamb Road\nElmira\, Oregon 97437 \nManager: Twin Rivers Chapter of ODS \nOpening Date: February 23rd\, 2020\nEntries postmarked before opening date will be penalized \nClosing Date: March 12th\, 2020\nEntries postmarked after closing date accepted if space available $10.00 per class post entry fee will apply \nThis is not a point-earning or recognized competition\, for practice only. \nClass List:\n100…………Introductory Level\, Test A\n101…………Introductory Level\, Test B\n102…………Introductory Level\, Test C\n103…………Training Level\, Test 1\n104…………Training Level\, Test 2\n105…………Training Level\, Test 3\n106…………First Level\, Test 1\n107…………First Level\, Test 2\n108…………First Level\, Test 3\n109…………Second Level\, Test 1\n110…………Second Level\, Test 2\n111…………Second Level\, Test 3\n112…………Third Level & Above\, *Specify Test*\n113…………Dressage Suitability\n114…………Western Dressage Association of America TOC *Specify level and test*\n115…………USEA Test of Choice\, *Specify Test*\n116…………USEF Freestyle – *Specify Level * \nWestern dressage classes are offered according to the rules defined by the Western Dressage Association and approved by USEF. For further details see www.westerndressageassociation.org. Note; ODS helmet rule still applies to these tests. \n*Music must be provided on CD or MP3/Iphone. Sound checks will be scheduled. Rider to provide clear written instructions for starting/stopping music \nEntries:\nUse ODS Schooling show entry form: https://oregondressage.com/wp-content/uploads/2018/11/2019-schooling-entry-fillable.pdf \nMail entries to: Tami Davis\nShow Secretary\nTwin Rivers Pre-Season Schooling Show\n25154 Lamb Road\nElmira\, Oregon 97437 \nFEES AND REFUNDS: Make checks payable to TRC-ODS \nClass Fees:\nTests………………………………………………………………$25.00\nDressage Suitability…………………………………….……….$15.00\nPost Entry if space is available in addition to class fee…>…$10.00 \nNon-Refundable Fees:\nOffice fee\, required for every entry……………………………..$15.00\nCancellation fee…………………………………………………………..$40.00\nReturned Check fee…………………………>…………………..$45.00 \nFacility Fees:\nHorse stall overnight……………………………………………………………$35.00\nHorse stall day……………………………………………………………….….$20.00\nHaul in fee for horses not stabled on grounds…………>……..$15.00 \nRefunds:\nOn our before our closing date: All class\, stabling\, and all miscellaneous fees refunded. Less cancellation fee.\nAfter closing date: No refunds given. \nScheduling:\nEntries will not be accepted without full payment and proper signatures. No phone/fax entries. Entries postmarked by closing date may purchase scratches with no penalty. Ride times will be emailed to riders before the show and posted on Twin Rivers Facebook page. Scheduling may require changing order of classes. Management reserves the right to cancel\, combine classes\, or substitute judges. Awards to first place and ribbons to third with three or more entries. \nAbout the Facility:\nArenas and footing: Indoor competition arena with Premier Equestrian Master’s Blend Footing/Beach sand. Outdoor warm up is a sand/Premier Equestrian Athletex\, weather permitting usage. Intro and training level tests may be ridden in short court (20m x 40m) if the number of entries permits. The indoor competition arena will be used as warm up in 15 minute breaks every fifth ride if outdoor is not available due to weather. \nStabling: 10 Indoor permanent stalls\, initial 1 bale of shavings provided. \nPlease strip stall upon departure. \nDriving Directions: \nDirections from I-5:\n• Take Exit 182\, stay to the right and turn right onto E. Oregon Avenue\n• Take the 2nd left onto S. Front St./OR Hwy 99 (just beyond the railroad tracks)\n• Continue on OR Hwy 99 for 2.2 miles\n• Turn right onto Howe Lane\n• Continue on How Lane for 0.7 miles\n• The Facility\, located at 33331 Howe Lane\, is on the right. Enter the Facility at the gate\, follow the\ndriveway on the right side of the property to the parking area for further instruction. \nDirections from I-5 Northbound:\n• Take Exit 182\, stay to the left and turn left onto E. Oregon Avenue\n• Take the 2nd left onto S. Front St./OR Hwy 99 (just beyond the railroad tracks)\n• Continue on OR Hwy 99 for 2.2 miles\n• Turn right onto Howe Lane\n• Continue on How Lane for 0.7 miles\n• The Facility\, located at 33331 Howe Lane\, is on the right. Enter the Facility at the gate\, follow the\ndriveway on the right side of the property to the parking area for further instruction.
URL:https://silvertailfarm.com/event/twin-rivers-st-patricks-day-schooling-show/
LOCATION:Silver Tail Farm\, 33331 Howe Lane\, Creswell\, OR\, 97426\, United States
CATEGORIES:All Clinics,Schooling Show
ATTACH;FMTTYPE=image/jpeg:https://silvertailfarm.com/wp-content/uploads/2020/01/St-Patricks-Show.jpg
ORGANIZER;CN="Twin Rivers Chapter of Oregon Dressage Society":MAILTO:odstwinriversevents@gmail.com
END:VEVENT
BEGIN:VEVENT
DTSTART;VALUE=DATE:20190427
DTEND;VALUE=DATE:20190428
DTSTAMP:20260423T110642
CREATED:20190410T191150Z
LAST-MODIFIED:20190410T191936Z
UID:1672-1556323200-1556409599@silvertailfarm.com
SUMMARY:Twin Rivers Chapter ODS - Spring Schooling Show
DESCRIPTION:Hosted by Twin Rivers Chapter\, Oregon Dressage Society\nSunday\, April 27th\, 2019\nSilver Tail Farm\, Creswell OR\nOpening date: March 18th\nClosing date: April 10th\nJudge: Kathy Casey (r) \nNot a recognized or point earning competition\, for practice only.
URL:https://silvertailfarm.com/event/twin-rivers-chapter-ods-spring-2019/
LOCATION:Silver Tail Farm\, 33331 Howe Lane\, Creswell\, OR\, 97426\, United States
CATEGORIES:Schooling Show
ORGANIZER;CN="Twin Rivers Chapter of Oregon Dressage Society":MAILTO:odstwinriversevents@gmail.com
END:VEVENT
BEGIN:VEVENT
DTSTART;TZID=America/Los_Angeles:20190317T090000
DTEND;TZID=America/Los_Angeles:20190317T170000
DTSTAMP:20260423T110642
CREATED:20190304T212618Z
LAST-MODIFIED:20190321T165344Z
UID:1631-1552813200-1552842000@silvertailfarm.com
SUMMARY:St. Patrick's Day Schooling Show 2019 - TRC - ODS
DESCRIPTION:Wear your green and come ride to test your luck! \nJudge: Megan Pugh\, a Grand Prix rider and trainer based out of Oregon City \nPlease use entry form for ODS practice/schooling shows on ODS website \nContact Jaimie with questions:  jannelewellyn@gmail.com \n  \nDiscounted Rooms at Comfort Inn Creswell\nSilver Tail Farm has partnered with Comfort Inn Creswell to offer discounted rooms during all STF events. Comfort Inn Creswell is extending a 15% discount to all Silver Tail Farm travelers. \nReservations can be booked via the following link or by calling the hotel directly at  (541) 895-4025 and requesting the “Silver Tail Farm” rate. \nhttp://www.comfortinn.com/ires/en-US/html/ArrivalInfo?hotel=OR203&srp=LSIL&pu=no
URL:https://silvertailfarm.com/event/st-patricks-day-2019-schooling-show-trc/
LOCATION:Silver Tail Farm\, 33331 Howe Lane\, Creswell\, OR\, 97426\, United States
CATEGORIES:Schooling Show
ORGANIZER;CN="Twin Rivers Chapter of Oregon Dressage Society":MAILTO:odstwinriversevents@gmail.com
END:VEVENT
BEGIN:VEVENT
DTSTART;VALUE=DATE:20180610
DTEND;VALUE=DATE:20180611
DTSTAMP:20260423T110642
CREATED:20180314T202312Z
LAST-MODIFIED:20180314T203219Z
UID:1548-1528588800-1528675199@silvertailfarm.com
SUMMARY:Twin Rivers Chapter ODS - Summer Schooling Show
DESCRIPTION:Hosted by Twin Rivers Chapter\, Oregon Dressage Society\nSunday\, June 10th\, 2018\nSilver Tail Farm\, Creswell OR\nJudge: TBA \nOpening Date: May 1\, 2018\nClosing Date: June 1\, 2018 \n 
URL:https://silvertailfarm.com/event/twin-rivers-chapter-ods-summer-2018/
LOCATION:Silver Tail Farm\, 33331 Howe Lane\, Creswell\, OR\, 97426\, United States
CATEGORIES:Schooling Show
ORGANIZER;CN="Twin Rivers Chapter of Oregon Dressage Society":MAILTO:odstwinriversevents@gmail.com
END:VEVENT
BEGIN:VEVENT
DTSTART;TZID=America/Los_Angeles:20180318T090000
DTEND;TZID=America/Los_Angeles:20180318T170000
DTSTAMP:20260423T110642
CREATED:20180313T232042Z
LAST-MODIFIED:20180314T214532Z
UID:1519-1521363600-1521392400@silvertailfarm.com
SUMMARY:St. Patrick's Day Schooling Show - TRC - ODS
DESCRIPTION:Wear your green and come ride to test your luck! Green-themed potluck! \nJudge: Kathy Casey (r)\nOpening Date: February 7th\, 2018\nClosing Date: March 12th\, 2018 \nPlease use entry form for ODS practice/schooling shows on ODS website \nContact Jaimie with questions:  jannelewellyn@gmail.com
URL:https://silvertailfarm.com/event/st-patricks-day-schooling-show-trc-ods/
LOCATION:Silver Tail Farm\, 33331 Howe Lane\, Creswell\, OR\, 97426\, United States
CATEGORIES:Schooling Show
ORGANIZER;CN="Twin Rivers Chapter of Oregon Dressage Society":MAILTO:odstwinriversevents@gmail.com
END:VEVENT
BEGIN:VEVENT
DTSTART;VALUE=DATE:20170430
DTEND;VALUE=DATE:20170501
DTSTAMP:20260423T110642
CREATED:20170329T162907Z
LAST-MODIFIED:20170329T163430Z
UID:1458-1493510400-1493596799@silvertailfarm.com
SUMMARY:Twin Rivers Chapter ODS - Spring 2017 Dressage Schooling Show #2
DESCRIPTION:Hosted by Twin Rivers Chapter\, Oregon Dressage Society\nSunday\, April 30th\, 2017\nSilver Tail Farm\, Creswell OR\nJudge: Kimberlee Barker “L”\nSecretary: Jaimie Lewellyn: jannelewellyn@gmail.com \nOpening Date: March 20th\, 2017\nClosing Date: April 20th\, 2017\nNot a recognized or point earning competition\, for practice only \n\nClass List\n1. USEF Western Dressage TOC\n2. USEA TOC\n3. USDF Intro A\n4. USDF Intro B\n5. USDF Intro C\n6. USEF Training Level Test 1\n7. USEF Training Level Test 2\n8. USEF Training Level Test 3\n9. USEF First Level Test 1\n10.USEF First Level TOC\n11. USEF Second Level TOC\n12. Lead Line English/Western\n*3rd Level and above please specify test\n* Classes may be combined or split depending on number of entries \n\n$25 per class $10 Office fee per entry make checks payable to TRC ODS\nA limited number of day stalls are available for $20/ Haul in fee $10 Checks made to STF\nMail entries to Jaimie Lewellyn PO BOX 654 Elmira\, OR 97437\nUse ODS Schooling show entry form: http://www.oregondressage.com/entryforms.html\nApproved helmet and boots required while mounted at all times\nAwards to 1st place and ribbons to 3rd in classes with more than 3 entries\nPhotography and videography available\, please inquire\n\nSilver Tail Farm does not have a warm-up ring so we will allow schooling in the show arena an hour prior to first ride time and for 10-15 minutes every 5th ride
URL:https://silvertailfarm.com/event/twin-rivers-chapter-ods-spring-2017-dressage-schooling-show-2/
LOCATION:Silver Tail Farm\, 33331 Howe Lane\, Creswell\, OR\, 97426\, United States
CATEGORIES:Schooling Show
ORGANIZER;CN="Twin Rivers Chapter of Oregon Dressage Society":MAILTO:odstwinriversevents@gmail.com
END:VEVENT
BEGIN:VEVENT
DTSTART;VALUE=DATE:20170319
DTEND;VALUE=DATE:20170320
DTSTAMP:20260423T110642
CREATED:20170206T191453Z
LAST-MODIFIED:20170206T191700Z
UID:1410-1489881600-1489967999@silvertailfarm.com
SUMMARY:Twin Rivers Chapter ODS - Spring 2017 Dressage Schooling Show
DESCRIPTION:  \nNot a recognized or point-earning competition\, for practice only. \nOpening date\, February 5. Closing date March 10. \nJudge: TBA \n$25 per test. Great class and High point awards. \nFor more information\, contact Jaimie at jannelewellyn@gmail.com or 541-844-6521
URL:https://silvertailfarm.com/event/twin-rivers-chapter-ods-spring-2017-dressage-schooling-show/
LOCATION:Silver Tail Farm\, 33331 Howe Lane\, Creswell\, OR\, 97426\, United States
CATEGORIES:Schooling Show
ORGANIZER;CN="Twin Rivers Chapter of Oregon Dressage Society":MAILTO:odstwinriversevents@gmail.com
END:VEVENT
END:VCALENDAR