BEGIN:VCALENDAR
VERSION:2.0
PRODID:-//Silver Tail Farm - ECPv6.15.20//NONSGML v1.0//EN
CALSCALE:GREGORIAN
METHOD:PUBLISH
X-WR-CALNAME:Silver Tail Farm
X-ORIGINAL-URL:https://silvertailfarm.com
X-WR-CALDESC:Events for Silver Tail Farm
REFRESH-INTERVAL;VALUE=DURATION:PT1H
X-Robots-Tag:noindex
X-PUBLISHED-TTL:PT1H
BEGIN:VTIMEZONE
TZID:America/Los_Angeles
BEGIN:DAYLIGHT
TZOFFSETFROM:-0800
TZOFFSETTO:-0700
TZNAME:PDT
DTSTART:20150308T100000
END:DAYLIGHT
BEGIN:STANDARD
TZOFFSETFROM:-0700
TZOFFSETTO:-0800
TZNAME:PST
DTSTART:20151101T090000
END:STANDARD
BEGIN:DAYLIGHT
TZOFFSETFROM:-0800
TZOFFSETTO:-0700
TZNAME:PDT
DTSTART:20160313T100000
END:DAYLIGHT
BEGIN:STANDARD
TZOFFSETFROM:-0700
TZOFFSETTO:-0800
TZNAME:PST
DTSTART:20161106T090000
END:STANDARD
BEGIN:DAYLIGHT
TZOFFSETFROM:-0800
TZOFFSETTO:-0700
TZNAME:PDT
DTSTART:20170312T100000
END:DAYLIGHT
BEGIN:STANDARD
TZOFFSETFROM:-0700
TZOFFSETTO:-0800
TZNAME:PST
DTSTART:20171105T090000
END:STANDARD
BEGIN:DAYLIGHT
TZOFFSETFROM:-0800
TZOFFSETTO:-0700
TZNAME:PDT
DTSTART:20180311T100000
END:DAYLIGHT
BEGIN:STANDARD
TZOFFSETFROM:-0700
TZOFFSETTO:-0800
TZNAME:PST
DTSTART:20181104T090000
END:STANDARD
END:VTIMEZONE
BEGIN:VEVENT
DTSTART;VALUE=DATE:20170729
DTEND;VALUE=DATE:20170731
DTSTAMP:20260425T093248
CREATED:20170213T174010Z
LAST-MODIFIED:20170213T174010Z
UID:1420-1501286400-1501459199@silvertailfarm.com
SUMMARY:Nick Onoda Clinic
DESCRIPTION:Join Nick Onoda\, an FEI trainer and competitor with over 15 years of experience emphasizing the classical system of dressage. Recently\, Nick worked as head rider under Stefan Wolff at Muenster’s Westfälische Reit-und Fahrschule\, and gave clinics in Europe on classical dressage and sports psychology. \nRide Fee: $220 per ride (limited rides available) – Stabling: $35/night\nAuditors: $20/day\, $30/weekend (preregistration required) or $30/day\, $40/weekend (at the door) \nQuestions & Registration\nFor more information and to RSVP\, contact Laura Park\, or use the contact form below. \nTo learn more about Nick Onoda\, visit his website.\n[vfb id=’3′]
URL:https://silvertailfarm.com/event/nick-onoda-clinic-july-2017/
LOCATION:Silver Tail Farm\, 33331 Howe Lane\, Creswell\, OR\, 97426\, United States
CATEGORIES:All Clinics,Dressage Clinics
ATTACH;FMTTYPE=image/jpeg:https://silvertailfarm.com/wp-content/uploads/2016/10/NickPhoto2a.jpg
END:VEVENT
BEGIN:VEVENT
DTSTART;VALUE=DATE:20170701
DTEND;VALUE=DATE:20170703
DTSTAMP:20260425T093248
CREATED:20161222T235230Z
LAST-MODIFIED:20170419T220338Z
UID:1400-1498867200-1499039999@silvertailfarm.com
SUMMARY:Christophe Theallet Clinic
DESCRIPTION:Christophe Theallet is a motivational clinician\, with over 30 years of experience teaching\, riding and coaching dressage at all levels\, up to the Grand Prix. His own journey includes studying\, training and graduating from the high-level French Riding School Cadre Noir de Saumur. He also worked extensively with dressage greats such as Patrick Le Rolland\, who Christophe describes as a true master and elegant rider who taught the fundamental principles of riding. He continued his education with masters including Rudolph Zelinger and Christilot Boylen\, Steffen Peters and competed internationally representing France. \nChristophe moved his training business to Spokane with his wife Marie and clinics regularly in New York\, New Jersey\, Florida\, California\, and Washington. He was also instrumental in our 2016 Olympic Team member’s development and training Kasey Perry\, coaching her for several years. Perry is one of several high-performing students\, he also coached Charlotte Jorst to victory at the 2015 Adequan Global Dressage Festival. Many of his regular students are high performing FEI Professionals and Amateurs\, here in Region 6. \nChristophe cares deeply about the process of dressage training and has the ability to teach many levels of riders. His philosophy is methodical\, based on classical principles and rider goals. Several of his students have been quoted saying that his\nquiet voice and methods bring out confidence and strength in both the horse and the rider. \nMore information about Christophe and his wife Marie can be found at www.thealletdressart.com \nEvent Details\nQuestions? Laura Park (541) 510-9865 or laura@silvertailfarm.com \nRider Fee $250 per ride for first eight riders\, $275 for ninth and tenth. Stabling available $35 per night \nAuditors $20 day/$30 weekend (preregistration) or $30 day/ $40 weekend at the door. \n[vfb id=’5′]
URL:https://silvertailfarm.com/event/christophe-theallet-clinic/
LOCATION:Silver Tail Farm\, 33331 Howe Lane\, Creswell\, OR\, 97426\, United States
CATEGORIES:All Clinics,Dressage Clinics
END:VEVENT
BEGIN:VEVENT
DTSTART;TZID=America/Los_Angeles:20170521T090000
DTEND;TZID=America/Los_Angeles:20170521T170000
DTSTAMP:20260425T093248
CREATED:20170106T181103Z
LAST-MODIFIED:20170106T181103Z
UID:1406-1495357200-1495386000@silvertailfarm.com
SUMMARY:Symposium for the Enhancement of Horses and Riders
DESCRIPTION:Our Fourth annual educational symposium with Janek Vluggen D.O.\, MRO-D\, EDO\, along with Elizabeth Voss\, and other presenters (TBA) is coming\, May 21\, 2017. \nProgramming will begin on the day before the Symposium\, with a separate presentation on Saturday evening by Jeannie Waldron DVM\, EDO. \nDon’t miss this opportunity to meet and be educated by amazing horsemen and horsewomen.
URL:https://silvertailfarm.com/event/symposium-enhancement-horses-riders/
LOCATION:Silver Tail Farm\, 33331 Howe Lane\, Creswell\, OR\, 97426\, United States
ATTACH;FMTTYPE=image/jpeg:https://silvertailfarm.com/wp-content/uploads/2017/01/2016Symposium-2.jpg
END:VEVENT
BEGIN:VEVENT
DTSTART;VALUE=DATE:20170506
DTEND;VALUE=DATE:20170508
DTSTAMP:20260425T093248
CREATED:20170213T173833Z
LAST-MODIFIED:20170213T173904Z
UID:1421-1494028800-1494201599@silvertailfarm.com
SUMMARY:Nick Onoda Clinic
DESCRIPTION:Join Nick Onoda\, an FEI trainer and competitor with over 15 years of experience emphasizing the classical system of dressage. Recently\, Nick worked as head rider under Stefan Wolff at Muenster’s Westfälische Reit-und Fahrschule\, and gave clinics in Europe on classical dressage and sports psychology. \nRide Fee: $220 per ride (limited rides available) – Stabling: $35/night\nAuditors: $20/day\, $30/weekend (preregistration required) or $30/day\, $40/weekend (at the door) \nQuestions & Registration\nFor more information and to RSVP\, contact Laura Park\, or use the contact form below. \nTo learn more about Nick Onoda\, visit his website.\n[vfb id=’3′]
URL:https://silvertailfarm.com/event/nick-onoda-clinic-may-2017/
LOCATION:Silver Tail Farm\, 33331 Howe Lane\, Creswell\, OR\, 97426\, United States
CATEGORIES:All Clinics,Dressage Clinics
ATTACH;FMTTYPE=image/jpeg:https://silvertailfarm.com/wp-content/uploads/2016/10/NickPhoto2a.jpg
END:VEVENT
BEGIN:VEVENT
DTSTART;VALUE=DATE:20170430
DTEND;VALUE=DATE:20170501
DTSTAMP:20260425T093248
CREATED:20170329T162907Z
LAST-MODIFIED:20170329T163430Z
UID:1458-1493510400-1493596799@silvertailfarm.com
SUMMARY:Twin Rivers Chapter ODS - Spring 2017 Dressage Schooling Show #2
DESCRIPTION:Hosted by Twin Rivers Chapter\, Oregon Dressage Society\nSunday\, April 30th\, 2017\nSilver Tail Farm\, Creswell OR\nJudge: Kimberlee Barker “L”\nSecretary: Jaimie Lewellyn: jannelewellyn@gmail.com \nOpening Date: March 20th\, 2017\nClosing Date: April 20th\, 2017\nNot a recognized or point earning competition\, for practice only \n\nClass List\n1. USEF Western Dressage TOC\n2. USEA TOC\n3. USDF Intro A\n4. USDF Intro B\n5. USDF Intro C\n6. USEF Training Level Test 1\n7. USEF Training Level Test 2\n8. USEF Training Level Test 3\n9. USEF First Level Test 1\n10.USEF First Level TOC\n11. USEF Second Level TOC\n12. Lead Line English/Western\n*3rd Level and above please specify test\n* Classes may be combined or split depending on number of entries \n\n$25 per class $10 Office fee per entry make checks payable to TRC ODS\nA limited number of day stalls are available for $20/ Haul in fee $10 Checks made to STF\nMail entries to Jaimie Lewellyn PO BOX 654 Elmira\, OR 97437\nUse ODS Schooling show entry form: http://www.oregondressage.com/entryforms.html\nApproved helmet and boots required while mounted at all times\nAwards to 1st place and ribbons to 3rd in classes with more than 3 entries\nPhotography and videography available\, please inquire\n\nSilver Tail Farm does not have a warm-up ring so we will allow schooling in the show arena an hour prior to first ride time and for 10-15 minutes every 5th ride
URL:https://silvertailfarm.com/event/twin-rivers-chapter-ods-spring-2017-dressage-schooling-show-2/
LOCATION:Silver Tail Farm\, 33331 Howe Lane\, Creswell\, OR\, 97426\, United States
CATEGORIES:Schooling Show
ORGANIZER;CN="Twin Rivers Chapter of Oregon Dressage Society":MAILTO:odstwinriversevents@gmail.com
END:VEVENT
BEGIN:VEVENT
DTSTART;VALUE=DATE:20170319
DTEND;VALUE=DATE:20170320
DTSTAMP:20260425T093248
CREATED:20170206T191453Z
LAST-MODIFIED:20170206T191700Z
UID:1410-1489881600-1489967999@silvertailfarm.com
SUMMARY:Twin Rivers Chapter ODS - Spring 2017 Dressage Schooling Show
DESCRIPTION:  \nNot a recognized or point-earning competition\, for practice only. \nOpening date\, February 5. Closing date March 10. \nJudge: TBA \n$25 per test. Great class and High point awards. \nFor more information\, contact Jaimie at jannelewellyn@gmail.com or 541-844-6521
URL:https://silvertailfarm.com/event/twin-rivers-chapter-ods-spring-2017-dressage-schooling-show/
LOCATION:Silver Tail Farm\, 33331 Howe Lane\, Creswell\, OR\, 97426\, United States
CATEGORIES:Schooling Show
ORGANIZER;CN="Twin Rivers Chapter of Oregon Dressage Society":MAILTO:odstwinriversevents@gmail.com
END:VEVENT
BEGIN:VEVENT
DTSTART;VALUE=DATE:20170304
DTEND;VALUE=DATE:20170306
DTSTAMP:20260425T093248
CREATED:20161221T042406Z
LAST-MODIFIED:20161223T001127Z
UID:1384-1488585600-1488758399@silvertailfarm.com
SUMMARY:Nick Onoda Clinic
DESCRIPTION:Join Nick Onoda\, an FEI trainer and competitor with over 15 years of experience emphasizing the classical system of dressage. Recently\, Nick worked as head rider under Stefan Wolff at Muenster’s Westfälische Reit-und Fahrschule\, and gave clinics in Europe on classical dressage and sports psychology. \nRide Fee: $220 per ride (limited rides available) – Stabling: $35/night\nAuditors: $20/day\, $30/weekend (preregistration required) or $30/day\, $40/weekend (at the door) \nQuestions & Registration\nFor more information and to RSVP\, contact Laura Park\, or use the contact form below. \nTo learn more about Nick Onoda\, visit his website.\n[vfb id=’3′]
URL:https://silvertailfarm.com/event/nick-onoda-clinic-mar-2017/
LOCATION:Silver Tail Farm\, 33331 Howe Lane\, Creswell\, OR\, 97426\, United States
CATEGORIES:All Clinics,Dressage Clinics
ATTACH;FMTTYPE=image/jpeg:https://silvertailfarm.com/wp-content/uploads/2016/10/NickPhoto2a.jpg
END:VEVENT
BEGIN:VEVENT
DTSTART;TZID=America/Los_Angeles:20170129T110000
DTEND;TZID=America/Los_Angeles:20170129T130000
DTSTAMP:20260425T093248
CREATED:20161221T041754Z
LAST-MODIFIED:20161221T041754Z
UID:1378-1485687600-1485694800@silvertailfarm.com
SUMMARY:Open Ride - Twin Rivers Chapter of ODS
DESCRIPTION:Members Only.\nOpen ride at Silver Tail Farm for Twin Rivers Chapter of Oregon Dressage Society. \n 
URL:https://silvertailfarm.com/event/open-ride-twin-rivers-chapter-ods-2/
LOCATION:Silver Tail Farm\, 33331 Howe Lane\, Creswell\, OR\, 97426\, United States
CATEGORIES:Open Rides
ORGANIZER;CN="Oregon Dressage Society":MAILTO:takodavis@q.com
END:VEVENT
BEGIN:VEVENT
DTSTART;VALUE=DATE:20170120
DTEND;VALUE=DATE:20170123
DTSTAMP:20260425T093248
CREATED:20161221T042003Z
LAST-MODIFIED:20161222T184554Z
UID:1380-1484870400-1485129599@silvertailfarm.com
SUMMARY:Nick Onoda Clinic
DESCRIPTION:Join Nick Onoda\, an FEI trainer and competitor with over 15 years of experience emphasizing the classical system of dressage. Recently\, Nick worked as head rider under Stefan Wolff at Muenster’s Westfälische Reit-und Fahrschule\, and gave clinics in Europe on classical dressage and sports psychology. \nRide Fee: \n$220 per ride for first eight riders\n*$190 per ride for first eight riders that sign up for all three days \nStabling: $35/night \nAuditors: $20/day\, $30/weekend (preregistration required) or $30/day\, $40/weekend (at the door) \nQuestions & Registration\nFor more information and to RSVP\, contact Laura Park\, or use the contact form below. \nTo learn more about Nick Onoda\, visit his website.\n[vfb id=’3′]
URL:https://silvertailfarm.com/event/nick-onoda-clinic-jan-2017/
LOCATION:Silver Tail Farm\, 33331 Howe Lane\, Creswell\, OR\, 97426\, United States
CATEGORIES:All Clinics,Dressage Clinics
ATTACH;FMTTYPE=image/jpeg:https://silvertailfarm.com/wp-content/uploads/2016/10/NickPhoto2a.jpg
END:VEVENT
BEGIN:VEVENT
DTSTART;VALUE=DATE:20161015
DTEND;VALUE=DATE:20161017
DTSTAMP:20260425T093248
CREATED:20161005T224123Z
LAST-MODIFIED:20161006T000509Z
UID:1342-1476489600-1476662399@silvertailfarm.com
SUMMARY:Nick Onoda Clinic
DESCRIPTION:Join Nick Onoda\, an FEI trainer and competitor with over 15 years of experience emphasizing the classical system of dressage. Recently\, Nick worked as head rider under Stefan Wolff at Muenster’s Westfälische Reit-und Fahrschule\, and gave clinics in Europe on classical dressage and sports psychology. \nRide Fee: $220 per ride (limited rides available) – Stabling: $35/night\nAuditors: $20/day\, $30/weekend (preregistration required) or $30/day\, $40/weekend (at the door) \nQuestions & Registration\nFor more information and to RSVP\, contact Laura Park\, or use the contact form below. \nTo learn more about Nick Onoda\, visit his website.\n[vfb id=’3′]
URL:https://silvertailfarm.com/event/nick-onoda-clinic-oct-15-2016/
LOCATION:Silver Tail Farm\, 33331 Howe Lane\, Creswell\, OR\, 97426\, United States
CATEGORIES:All Clinics,Dressage Clinics
ATTACH;FMTTYPE=image/jpeg:https://silvertailfarm.com/wp-content/uploads/2016/10/NickPhoto2a.jpg
END:VEVENT
BEGIN:VEVENT
DTSTART;VALUE=DATE:20160929
DTEND;VALUE=DATE:20161003
DTSTAMP:20260425T093248
CREATED:20160727T182135Z
LAST-MODIFIED:20160727T183843Z
UID:1299-1475107200-1475452799@silvertailfarm.com
SUMMARY:Twin Rivers Chapter ODS Adult Amateur Camp
DESCRIPTION:Instructors Heather Oleson and Nicki Grandia\nArrival day is Thursday\, September 29th. Keep in mind lessons start at 1:30 so please contact us if you need a later ride. (Please note if you need early arrival or late departure dates.) \nDownload Registration Form (PDF) \nStalls (12×12) are available for $35 per night. 2 bags of bedding included. Shavings are available for $6 per bag or you can bring your own. Feed/stall cleaning is not included. Please note if there are preferences as to who/what horse is next to yours. \nNo horses tied to trailers except when tacking up! (Day Stalls are available for $20 per day.) \n$300 deposit required at registration\, remaining balance to be paid by September 15th. Please make checks payable to TRCODS. Send registration to: Jaimie Lewellyn PO Box 654 Elmira\, OR 97437 \nQuestions? Contact Jaimie at jannelewellyn@gmail.com or 541-844-6521
URL:https://silvertailfarm.com/event/twin-rivers-ods-adult-amateur-camp/
LOCATION:Silver Tail Farm\, 33331 Howe Lane\, Creswell\, OR\, 97426\, United States
CATEGORIES:Adult Camps
ORGANIZER;CN="Twin Rivers Chapter of Oregon Dressage Society":MAILTO:odstwinriversevents@gmail.com
END:VEVENT
BEGIN:VEVENT
DTSTART;VALUE=DATE:20160827
DTEND;VALUE=DATE:20160829
DTSTAMP:20260425T093248
CREATED:20160727T180255Z
LAST-MODIFIED:20160820T220319Z
UID:1298-1472256000-1472428799@silvertailfarm.com
SUMMARY:Nick Onoda Clinic
DESCRIPTION:Join Nick Onoda\, an FEI trainer and competitor with over 15 years of experience emphasizing the classical system of dressage. Recently\, Nick worked as head rider under Stefan Wolff at Muenster’s Westfälische Reit-und Fahrschule\, and gave clinics in Europe on classical dressage and sports psychology. \nRide Fee: $220 per ride (limited rides available) – Stabling: $35/night\nAuditors: $20/day\, $30/weekend (preregistration required) or $30/day\, $40/weekend (at the door) \nQuestions & Registration\nFor more information and to RSVP\, contact Laura Park\, or use the contact form below. \nTo learn more about Nick Onoda\, visit his website.\n[vfb id=’3′]
URL:https://silvertailfarm.com/event/nick-onoda-clinic-aug-2016/
LOCATION:Silver Tail Farm\, 33331 Howe Lane\, Creswell\, OR\, 97426\, United States
CATEGORIES:All Clinics,Dressage Clinics
ATTACH;FMTTYPE=image/jpeg:https://silvertailfarm.com/wp-content/uploads/2016/04/Nick-Onoda-riding2.jpg
END:VEVENT
BEGIN:VEVENT
DTSTART;VALUE=DATE:20160710
DTEND;VALUE=DATE:20160711
DTSTAMP:20260425T093248
CREATED:20160217T195048Z
LAST-MODIFIED:20160217T195322Z
UID:310-1468108800-1468195199@silvertailfarm.com
SUMMARY:Midsummer Night's Dream
DESCRIPTION:ODS-sponsored dressage show.\nHosted by Twin Rivers Chapter ODS. \nRefer to the ODS Omnibus for prize list. \nFor information\, contact Tami Davis takodavis@q.com.
URL:https://silvertailfarm.com/event/midsummer-nights-dream-jul-2016/
LOCATION:Silver Tail Farm\, 33331 Howe Lane\, Creswell\, OR\, 97426\, United States
CATEGORIES:Competitions
ORGANIZER;CN="Oregon Dressage Society":MAILTO:takodavis@q.com
END:VEVENT
BEGIN:VEVENT
DTSTART;VALUE=DATE:20160625
DTEND;VALUE=DATE:20160627
DTSTAMP:20260425T093248
CREATED:20160415T174526Z
LAST-MODIFIED:20160415T175908Z
UID:908-1466812800-1466985599@silvertailfarm.com
SUMMARY:Nick Onoda Clinic
DESCRIPTION:Join Nick Onoda\, an FEI trainer and competitor with over 15 years of experience emphasizing the classical system of dressage. Recently\, Nick worked as head rider under Stefan Wolff at Muenster’s Westfälische Reit-und Fahrschule\, and gave clinics in Europe on classical dressage and sports psychology. \nRide Fee: $220 per ride (limited rides available) – Stabling: $35/night\nAuditors: $20/day\, $30/weekend (preregistration required) or $30/day\, $40/weekend (at the door) \nTory Kelly of Equine Video Productions will be available to capture your rides! \nQuestions & Registration\nFor more information and to RSVP\, contact Laura Park\, or use the contact form below. \nTo learn more about Nick Onoda\, visit his website.\n[vfb id=’3′]
URL:https://silvertailfarm.com/event/nick-onoda-clinic/
LOCATION:Silver Tail Farm\, 33331 Howe Lane\, Creswell\, OR\, 97426\, United States
CATEGORIES:All Clinics,Dressage Clinics
ATTACH;FMTTYPE=image/jpeg:https://silvertailfarm.com/wp-content/uploads/2016/04/Nick-Onoda-riding2.jpg
END:VEVENT
BEGIN:VEVENT
DTSTART;TZID=America/Los_Angeles:20160611T090000
DTEND;TZID=America/Los_Angeles:20160611T170000
DTSTAMP:20260425T093248
CREATED:20160217T193324Z
LAST-MODIFIED:20160609T153415Z
UID:307-1465635600-1465664400@silvertailfarm.com
SUMMARY:Symposium for the Enhancement of Horses and Riders
DESCRIPTION:STF welcomes Supporting the Horse and Rider’s third annual educational symposium. Featuring Deborah Bowerman-Davies\, Janek Vluggen\, and other clinicians. \n   \nDownload a flyer for this event here. \nFor registration or more information\, visit supportingthehorseandrider.com.
URL:https://silvertailfarm.com/event/symposium-for-the-enhancement-of-horses-and-riders-jun-2016/
LOCATION:Silver Tail Farm\, 33331 Howe Lane\, Creswell\, OR\, 97426\, United States
CATEGORIES:All Clinics
END:VEVENT
BEGIN:VEVENT
DTSTART;TZID=America/Los_Angeles:20160529T110000
DTEND;TZID=America/Los_Angeles:20160529T130000
DTSTAMP:20260425T093248
CREATED:20160325T195351Z
LAST-MODIFIED:20160325T195351Z
UID:776-1464519600-1464526800@silvertailfarm.com
SUMMARY:Open Ride - Twin Rivers Chapter of ODS
DESCRIPTION:Members Only.\nOpen ride at Silver Tail Farm for Twin Rivers Chapter of Oregon Dressage Society. \n 
URL:https://silvertailfarm.com/event/open-ride-twin-rivers-chapter-of-ods/
LOCATION:Silver Tail Farm\, 33331 Howe Lane\, Creswell\, OR\, 97426\, United States
CATEGORIES:Open Rides
ORGANIZER;CN="Oregon Dressage Society":MAILTO:takodavis@q.com
END:VEVENT
BEGIN:VEVENT
DTSTART;VALUE=DATE:20160521
DTEND;VALUE=DATE:20160523
DTSTAMP:20260425T093248
CREATED:20160415T165752Z
LAST-MODIFIED:20160427T221105Z
UID:900-1463788800-1463961599@silvertailfarm.com
SUMMARY:David Blake Clinic
DESCRIPTION:Back by popular demand\, STF welcomes David Blake\, internationally-acclaimed dressage rider and trainer. David’s previous workshops at STF have sold out and received enthusiastic reviews. \nThis is an exciting opportunity to learn from a master teacher\, in a world-class facility\, without having to travel long distances. \nDavid started riding when he was four years old in Paris\, France\, where he began his career as a jumper. He switched to dressage when he was fourteen and within two years won his USDF Bronze Medal. \nIn 1998 David won his USDF Silver Medal and the Gold Medal in 2003. Soon after David was chosen to train in the US Equestrian Federation’s Young Horse Program where he honed his skills as a young horse trainer that he is so well known for today. \nDavid has trained with some of the greatest in the Dressage business; Jan Ebeling\, Janet Brown\, Michael Poulin\, Axel Steiner\, Harry Bolt and Christine Traurig\, Steffen and Shannon Peters. David is now working and training with Guenter Seidel\, a long time mentor. \n\n\nRide Fee: $220 per ride (limited rides available) – Stabling: $35/night\nAuditors: $20/day\, $30/weekend (preregistration required) or $30/day\, $40/weekend (at the door)\nQuestions & Registration: Laura Park (541) 510-9865 or laura@silvertailfarm.com\n\n\n  \nTory Kelly of Equine Video Productions will be available to capture your rides! \nFor clinic registration\, you can use the RSVP Form below. To learn more about David Blake\, visit his website. \nShare this with your friends using the social media buttons below! You can also download a printable flyer for this event here. \n[vfb id=’4′]
URL:https://silvertailfarm.com/event/david-blake-clinic/
LOCATION:Silver Tail Farm\, 33331 Howe Lane\, Creswell\, OR\, 97426\, United States
CATEGORIES:All Clinics,Dressage Clinics
ATTACH;FMTTYPE=image/jpeg:https://silvertailfarm.com/wp-content/uploads/2016/04/david-blake.jpg
END:VEVENT
BEGIN:VEVENT
DTSTART;VALUE=DATE:20160429
DTEND;VALUE=DATE:20160503
DTSTAMP:20260425T093248
CREATED:20160325T193920Z
LAST-MODIFIED:20160325T193920Z
UID:770-1461888000-1462233599@silvertailfarm.com
SUMMARY:Connected Riding for Gaited Horses
DESCRIPTION:Featuring Diane Sept\nNo matter what your level of experience\, your horse’s movement and attitude can improve… Connected Riding instructor and gaited horse expert Diane Sept will show you how! \nIf you want to become more balanced in the saddle\, more secure on the trail\, develop better movement in the show ring\, and learn how to truly communicate with your horse\, this clinic is for you! \nDownload the Registration Form here. (pdf file) \nDiane’s extensive experience with gaited horses makes these clinics of special interest to owners of gaited horses\, but also great for any breed. \nGaited horse owners have been told for years that shank bits\, long toes\, weighted shoes\, cutback saddles and action devices can correct a horse’s gait. Diane’s philosophy is a more natural approach\, based on balance and elastic connection between horse and rider. She says “anything else is a quick fix\, throwing the horse into just enough imbalance that is has to do some form of a four beat gait. Both the horse and rider end up stiff and sore. \nFreeing up and allowing the natural abilities of any breed to express themselves is what Connected Riding is all about.  We must take the responsibility to help the horse —  from www.dianesept.com \nHere’s a video from one of Diane’s gaited horse lessons.
URL:https://silvertailfarm.com/event/connected-riding-gaited-horses/
LOCATION:Silver Tail Farm\, 33331 Howe Lane\, Creswell\, OR\, 97426\, United States
CATEGORIES:All Clinics
ORGANIZER;CN="Ramona McCoy":MAILTO:ramonamccoy@mac.com
END:VEVENT
BEGIN:VEVENT
DTSTART;TZID=America/Los_Angeles:20160424T110000
DTEND;TZID=America/Los_Angeles:20160424T130000
DTSTAMP:20260425T093248
CREATED:20160325T194954Z
LAST-MODIFIED:20160325T195230Z
UID:774-1461495600-1461502800@silvertailfarm.com
SUMMARY:Open Ride - Twin Rivers Chapter of ODS
DESCRIPTION:Members Only.\nOpen ride at Silver Tail Farm for Twin Rivers Chapter of Oregon Dressage Society. \n 
URL:https://silvertailfarm.com/event/open-ride-twin-rivers-chapter-ods/
LOCATION:Silver Tail Farm\, 33331 Howe Lane\, Creswell\, OR\, 97426\, United States
CATEGORIES:Open Rides
ORGANIZER;CN="Oregon Dressage Society":MAILTO:takodavis@q.com
END:VEVENT
BEGIN:VEVENT
DTSTART;VALUE=DATE:20160416
DTEND;VALUE=DATE:20160418
DTSTAMP:20260425T093248
CREATED:20160217T170104Z
LAST-MODIFIED:20160415T163715Z
UID:291-1460764800-1460937599@silvertailfarm.com
SUMMARY:USDF Adult Clinic Series
DESCRIPTION:Creating a Winning Partnership with Your Horse\nFeaturing Kathy Connelly and Betsy Steiner \nProgram times: 8:30am to 6:00pm Saturday\, 8:00am to 5:15pm Sunday. \nUnited States Dressage Federation — Region 6 \nApplication deadline: March 4\, 2016. \nInterested in auditing? Pre-registration for auditors ends April 1\, 2016. \nTo register as a rider or auditor\, click here. \nTo learn more about USDF Adult Clinics\, click here.
URL:https://silvertailfarm.com/event/usdf-adult-clinic-series-apr-2016/
LOCATION:Silver Tail Farm\, 33331 Howe Lane\, Creswell\, OR\, 97426\, United States
CATEGORIES:All Clinics,Dressage Clinics
END:VEVENT
BEGIN:VEVENT
DTSTART;VALUE=DATE:20160402
DTEND;VALUE=DATE:20160404
DTSTAMP:20260425T093248
CREATED:20160216T210908Z
LAST-MODIFIED:20160325T182228Z
UID:280-1459555200-1459727999@silvertailfarm.com
SUMMARY:Nick Onoda Clinic
DESCRIPTION:Join Nick Onoda\, an FEI trainer and competitor with over 15 years of experience emphasizing the classical system of dressage. Recently\, Nick worked as head rider under Stefan Wolff at Muenster’s Westfälische Reit-und Fahrschule\, and gave clinics in Europe on classical dressage and sports psychology. \nRide Fee: $220 per ride (limited rides available) – Stabling: $35/night Rider slots are Sold Out! \nAuditors: $20/day\, $30/weekend (preregistration required) or $30/day\, $40/weekend (at the door) \nTory Kelly of Equine Video Productions will be available to capture your rides! \nQuestions & Registration\nFor more information and to RSVP\, contact Laura Park\, or use the contact form below. \nTo learn more about Nick Onoda\, visit his website.\n[vfb id=’3′]
URL:https://silvertailfarm.com/event/nick-onoda-clinic-apr-2016/
LOCATION:Silver Tail Farm\, 33331 Howe Lane\, Creswell\, OR\, 97426\, United States
CATEGORIES:All Clinics,Dressage Clinics
ATTACH;FMTTYPE=image/jpeg:https://silvertailfarm.com/wp-content/uploads/2016/03/NickIMG-3473.jpg
END:VEVENT
BEGIN:VEVENT
DTSTART;VALUE=DATE:20160220
DTEND;VALUE=DATE:20160222
DTSTAMP:20260425T093248
CREATED:20160216T205401Z
LAST-MODIFIED:20160217T190618Z
UID:269-1455926400-1456099199@silvertailfarm.com
SUMMARY:David Blake Clinic
DESCRIPTION:Once again\, STF welcomes David Blake\, an internationally acclaimed dressage rider and trainer. David’s previous workshops at STF have sold out and received enthusiastic reviews. It’s a great opportunity to learn from a master teacher. \nFor clinic information and registration\, contact Laura Park\,  or use our contact form. \nTo learn more about David Blake\, visit his website.
URL:https://silvertailfarm.com/event/david-blake-clinic-feb-2016/
LOCATION:Silver Tail Farm\, 33331 Howe Lane\, Creswell\, OR\, 97426\, United States
CATEGORIES:All Clinics,Dressage Clinics
END:VEVENT
END:VCALENDAR