BEGIN:VCALENDAR
VERSION:2.0
PRODID:-//Silver Tail Farm - ECPv6.15.20//NONSGML v1.0//EN
CALSCALE:GREGORIAN
METHOD:PUBLISH
X-WR-CALNAME:Silver Tail Farm
X-ORIGINAL-URL:https://silvertailfarm.com
X-WR-CALDESC:Events for Silver Tail Farm
REFRESH-INTERVAL;VALUE=DURATION:PT1H
X-Robots-Tag:noindex
X-PUBLISHED-TTL:PT1H
BEGIN:VTIMEZONE
TZID:America/Los_Angeles
BEGIN:DAYLIGHT
TZOFFSETFROM:-0800
TZOFFSETTO:-0700
TZNAME:PDT
DTSTART:20220313T100000
END:DAYLIGHT
BEGIN:STANDARD
TZOFFSETFROM:-0700
TZOFFSETTO:-0800
TZNAME:PST
DTSTART:20221106T090000
END:STANDARD
BEGIN:DAYLIGHT
TZOFFSETFROM:-0800
TZOFFSETTO:-0700
TZNAME:PDT
DTSTART:20230312T100000
END:DAYLIGHT
BEGIN:STANDARD
TZOFFSETFROM:-0700
TZOFFSETTO:-0800
TZNAME:PST
DTSTART:20231105T090000
END:STANDARD
BEGIN:DAYLIGHT
TZOFFSETFROM:-0800
TZOFFSETTO:-0700
TZNAME:PDT
DTSTART:20240310T100000
END:DAYLIGHT
BEGIN:STANDARD
TZOFFSETFROM:-0700
TZOFFSETTO:-0800
TZNAME:PST
DTSTART:20241103T090000
END:STANDARD
END:VTIMEZONE
BEGIN:VEVENT
DTSTART;VALUE=DATE:20230708
DTEND;VALUE=DATE:20230710
DTSTAMP:20260425T204230
CREATED:20221228T225423Z
LAST-MODIFIED:20230625T185942Z
UID:2482-1688774400-1688947199@silvertailfarm.com
SUMMARY:Heart of the Valley Dressage Shows I & II
DESCRIPTION:Heart of the Valley Dressage Show I\, July 8\, 2023 (USEF/USDF\, Level 2)\nHeart of the Valley Dressage Show II\, July 9\, 2023 (USEF/USDF\, Level 2)\n\nHosted by Mid Valley Chapter of Oregon Dressage Society\nJudges:  Joan Darnell “S” and Renee Johnson “S”\n\nShow Manager:  Laura Park\nShow Secretary: Peter Rothschild & Francy Haupt\n\nPrize List (click to download) \n\nVolunteers needed – sign up here.\n\nLodging is available at a discounted rate at the Creswell Comfort Inn & Suites.\n 
URL:https://silvertailfarm.com/event/heart-of-the-valley-dressage-shows-i-ii-2023/
LOCATION:Silver Tail Farm\, 33331 Howe Lane\, Creswell\, OR\, 97426\, United States
CATEGORIES:Competitions,Dressage Show
ATTACH;FMTTYPE=image/jpeg:https://silvertailfarm.com/wp-content/uploads/2021/05/Mid-Valley-logo-2.jpg
ORGANIZER;CN="Mid Valley Chapter of ODS":MAILTO:mvchapterods@gmail.com
END:VEVENT
END:VCALENDAR