BEGIN:VCALENDAR
VERSION:2.0
PRODID:-//Silver Tail Farm - ECPv6.15.20//NONSGML v1.0//EN
CALSCALE:GREGORIAN
METHOD:PUBLISH
X-ORIGINAL-URL:https://silvertailfarm.com
X-WR-CALDESC:Events for Silver Tail Farm
REFRESH-INTERVAL;VALUE=DURATION:PT1H
X-Robots-Tag:noindex
X-PUBLISHED-TTL:PT1H
BEGIN:VTIMEZONE
TZID:America/Los_Angeles
BEGIN:DAYLIGHT
TZOFFSETFROM:-0800
TZOFFSETTO:-0700
TZNAME:PDT
DTSTART:20230312T100000
END:DAYLIGHT
BEGIN:STANDARD
TZOFFSETFROM:-0700
TZOFFSETTO:-0800
TZNAME:PST
DTSTART:20231105T090000
END:STANDARD
BEGIN:DAYLIGHT
TZOFFSETFROM:-0800
TZOFFSETTO:-0700
TZNAME:PDT
DTSTART:20240310T100000
END:DAYLIGHT
BEGIN:STANDARD
TZOFFSETFROM:-0700
TZOFFSETTO:-0800
TZNAME:PST
DTSTART:20241103T090000
END:STANDARD
BEGIN:DAYLIGHT
TZOFFSETFROM:-0800
TZOFFSETTO:-0700
TZNAME:PDT
DTSTART:20250309T100000
END:DAYLIGHT
BEGIN:STANDARD
TZOFFSETFROM:-0700
TZOFFSETTO:-0800
TZNAME:PST
DTSTART:20251102T090000
END:STANDARD
END:VTIMEZONE
BEGIN:VEVENT
DTSTART;TZID=America/Los_Angeles:20240224T090000
DTEND;TZID=America/Los_Angeles:20240225T163000
DTSTAMP:20260425T074952
CREATED:20240219T201719Z
LAST-MODIFIED:20240219T205734Z
UID:2810-1708765200-1708878600@silvertailfarm.com
SUMMARY:2024 Ride-A-Test with Megan Pugh
DESCRIPTION:We have a fabulous day planned for you at Silver Tail Farm in Creswell with Judge Megan Pugh. \n\n 
URL:https://silvertailfarm.com/event/2024-ride-a-test-with-megan-pugh/
LOCATION:Silver Tail Farm\, 33331 Howe Lane\, Creswell\, OR\, 97426\, United States
CATEGORIES:Dressage Clinics
END:VEVENT
END:VCALENDAR