BEGIN:VCALENDAR
VERSION:2.0
PRODID:-//Silver Tail Farm - ECPv6.15.20//NONSGML v1.0//EN
CALSCALE:GREGORIAN
METHOD:PUBLISH
X-WR-CALNAME:Silver Tail Farm
X-ORIGINAL-URL:https://silvertailfarm.com
X-WR-CALDESC:Events for Silver Tail Farm
REFRESH-INTERVAL;VALUE=DURATION:PT1H
X-Robots-Tag:noindex
X-PUBLISHED-TTL:PT1H
BEGIN:VTIMEZONE
TZID:America/Los_Angeles
BEGIN:DAYLIGHT
TZOFFSETFROM:-0800
TZOFFSETTO:-0700
TZNAME:PDT
DTSTART:20250309T100000
END:DAYLIGHT
BEGIN:STANDARD
TZOFFSETFROM:-0700
TZOFFSETTO:-0800
TZNAME:PST
DTSTART:20251102T090000
END:STANDARD
BEGIN:DAYLIGHT
TZOFFSETFROM:-0800
TZOFFSETTO:-0700
TZNAME:PDT
DTSTART:20260308T100000
END:DAYLIGHT
BEGIN:STANDARD
TZOFFSETFROM:-0700
TZOFFSETTO:-0800
TZNAME:PST
DTSTART:20261101T090000
END:STANDARD
BEGIN:DAYLIGHT
TZOFFSETFROM:-0800
TZOFFSETTO:-0700
TZNAME:PDT
DTSTART:20270314T100000
END:DAYLIGHT
BEGIN:STANDARD
TZOFFSETFROM:-0700
TZOFFSETTO:-0800
TZNAME:PST
DTSTART:20271107T090000
END:STANDARD
END:VTIMEZONE
BEGIN:VEVENT
DTSTART;VALUE=DATE:20260815
DTEND;VALUE=DATE:20260817
DTSTAMP:20260423T154457
CREATED:20260120T180636Z
LAST-MODIFIED:20260120T180636Z
UID:3229-1786752000-1786924799@silvertailfarm.com
SUMMARY:Twin Rivers Classic I & II
DESCRIPTION:Twin Rivers Classic I & II\nTwin Rivers Classic I\, August 15\, 2026 (USEF/USDF\, Level 2) \nTwin Rivers Classic II\, August 16\, 2026 (USEF/USDF\, Level 2) \n\nJudges:  Dolly Hannon “S” and Teresa Stewart “S” \nShow Manager:  Laura Park \nShow Secretary:  Peter Rothschild \n\n  \n\n\n 
URL:https://silvertailfarm.com/event/twin-rivers-classic-i-ii-2026/
LOCATION:Silver Tail Farm\, 33331 Howe Lane\, Creswell\, OR\, 97426\, United States
CATEGORIES:Competitions,Dressage Show
ATTACH;FMTTYPE=image/jpeg:https://silvertailfarm.com/wp-content/uploads/2022/04/TRClassicPoster22.jpg
ORGANIZER;CN="Twin Rivers Chapter of Oregon Dressage Society":MAILTO:odstwinriversevents@gmail.com
END:VEVENT
END:VCALENDAR